BEGIN:VCALENDAR
VERSION:2.0
PRODID:-//casaofthesouthplains.org//NONSGML kigkonsult.se iCalcreator 2.30.
 10//
CALSCALE:GREGORIAN
METHOD:PUBLISH
UID:1f168768-abf3-4674-8cbf-85e80a26eb3d
X-WR-CALDESC:Join us as we meet with Lawrence Lanahan the author of the sec
 ond book in the National CASA/GAL Poverty Learning Series Book Club\, The 
 Lines Between Us: Two Families and a Quest to Cross Baltimore’s Racial Div
 ide.\n\nYou do not need to be a member of the National CASA/GAL Book Club 
 to attend.
X-WR-RELCALID:fd1c78748d4b6850a4fa574689f17d68
X-WR-TIMEZONE:America/Chicago
BEGIN:VTIMEZONE
TZID:America/Chicago
BEGIN:STANDARD
TZNAME:CST
DTSTART:20211107T020000
TZOFFSETFROM:-0500
TZOFFSETTO:-0600
RDATE:20221106T020000
END:STANDARD
BEGIN:DAYLIGHT
TZNAME:CDT
DTSTART:20210314T020000
TZOFFSETFROM:-0600
TZOFFSETTO:-0500
RDATE:20220313T020000
RDATE:20230312T020000
END:DAYLIGHT
END:VTIMEZONE
BEGIN:VEVENT
UID:9bd18f07-1466-4fd2-9968-4c5a4f60298a
DTSTAMP:20260421T035827Z
DESCRIPTION:Join us as we meet with Lawrence Lanahan the author of the seco
 nd book in the National CASA/GAL Poverty Learning Series Book Club\, The L
 ines Between Us: Two Families and a Quest to Cross Baltimore’s Racial Divi
 de.\n\nYou do not need to be a member of the National CASA/GAL Book Club t
 o attend.
DTSTART;TZID=America/Chicago:20220215T130000
DTEND;TZID=America/Chicago:20220215T140000
LOCATION:Zoom Webinar
SUMMARY:Continuing Ed: A Chat with Lawrence Lanahan\, author of 'The Lines 
 Between Us: Two Families and a Quest to Cross Baltimore’s Racial Divide'
END:VEVENT
END:VCALENDAR
